BEGIN:VCALENDAR
VERSION:2.0
PRODID:-//Município de Fornos de Algodres - ECPv6.15.20//NONSGML v1.0//EN
CALSCALE:GREGORIAN
METHOD:PUBLISH
X-ORIGINAL-URL:https://www.cm-fornosdealgodres.pt
X-WR-CALDESC:Eventos para Município de Fornos de Algodres
REFRESH-INTERVAL;VALUE=DURATION:PT1H
X-Robots-Tag:noindex
X-PUBLISHED-TTL:PT1H
BEGIN:VTIMEZONE
TZID:Europe/Lisbon
BEGIN:DAYLIGHT
TZOFFSETFROM:+0000
TZOFFSETTO:+0100
TZNAME:WEST
DTSTART:20250330T010000
END:DAYLIGHT
BEGIN:STANDARD
TZOFFSETFROM:+0100
TZOFFSETTO:+0000
TZNAME:WET
DTSTART:20251026T010000
END:STANDARD
BEGIN:DAYLIGHT
TZOFFSETFROM:+0000
TZOFFSETTO:+0100
TZNAME:WEST
DTSTART:20260329T010000
END:DAYLIGHT
BEGIN:STANDARD
TZOFFSETFROM:+0100
TZOFFSETTO:+0000
TZNAME:WET
DTSTART:20261025T010000
END:STANDARD
BEGIN:DAYLIGHT
TZOFFSETFROM:+0000
TZOFFSETTO:+0100
TZNAME:WEST
DTSTART:20270328T010000
END:DAYLIGHT
BEGIN:STANDARD
TZOFFSETFROM:+0100
TZOFFSETTO:+0000
TZNAME:WET
DTSTART:20271031T010000
END:STANDARD
END:VTIMEZONE
BEGIN:VEVENT
DTSTART;TZID=Europe/Lisbon:20260516T110000
DTEND;TZID=Europe/Lisbon:20260517T170000
DTSTAMP:20260423T232045
CREATED:20260416T135548Z
LAST-MODIFIED:20260420T111300Z
UID:41516-1778929200-1779037200@www.cm-fornosdealgodres.pt
SUMMARY:Provas de Automobilismo- Fornos de Algodres
DESCRIPTION:O concelho de Fornos de Algodres recebe um fim de semana dedicado ao desporto automóvel\, com duas provas que prometem muita emoção\, espetáculo e adrenalina! \nEntre curvas desafiantes e perícias de cortar a respiração\, pilotos e máquinas vão dar vida a um programa que alia desporto\, paixão e dinamização do território. \n16 de maio\nEspecial Sprint Serra da Esgalhada\n11h00\nUma prova exigente\, em plena serra\, que coloca à prova a perícia dos pilotos num cenário natural único. \n 17 de maio\nPerícia de Fornos de Algodres\n14h00\nAvenida Quintas da Vila – Quartel AHBVFA \nUm momento de grande espetáculo\, com manobras técnicas e muita proximidade ao público. \nDois dias imperdíveis para os amantes do desporto automóvel\, com momentos únicos e muita animação! \nVenha assistir e apoiar estes grandes eventos que prometem trazer ainda mais dinamismo ao nosso concelho. \nPrograma completo e mais informações disponíveis brevemente.
URL:https://www.cm-fornosdealgodres.pt/eventos/provas-de-automobilismo-fornos-de-algodres/
LOCATION:Fornos de Algodres
CATEGORIES:Desporto e Lazer
ATTACH;FMTTYPE=image/jpeg:https://www.cm-fornosdealgodres.pt/wp-content/uploads/2026/04/Provas-de-Automobilismo-Fornos-de-Algodres-banner.jpg
ORGANIZER;CN="Munic%C3%ADpio de Fornos de Algodres":MAILTO:geral@cm-fornosdealgodres.pt
END:VEVENT
END:VCALENDAR