BEGIN:VCALENDAR
VERSION:2.0
PRODID:-//Município de Fornos de Algodres - ECPv6.15.20//NONSGML v1.0//EN
CALSCALE:GREGORIAN
METHOD:PUBLISH
X-WR-CALNAME:Município de Fornos de Algodres
X-ORIGINAL-URL:https://www.cm-fornosdealgodres.pt
X-WR-CALDESC:Eventos para Município de Fornos de Algodres
REFRESH-INTERVAL;VALUE=DURATION:PT1H
X-Robots-Tag:noindex
X-PUBLISHED-TTL:PT1H
BEGIN:VTIMEZONE
TZID:Europe/Lisbon
BEGIN:DAYLIGHT
TZOFFSETFROM:+0000
TZOFFSETTO:+0100
TZNAME:WEST
DTSTART:20180325T010000
END:DAYLIGHT
BEGIN:STANDARD
TZOFFSETFROM:+0100
TZOFFSETTO:+0000
TZNAME:WET
DTSTART:20181028T010000
END:STANDARD
BEGIN:DAYLIGHT
TZOFFSETFROM:+0000
TZOFFSETTO:+0100
TZNAME:WEST
DTSTART:20190331T010000
END:DAYLIGHT
BEGIN:STANDARD
TZOFFSETFROM:+0100
TZOFFSETTO:+0000
TZNAME:WET
DTSTART:20191027T010000
END:STANDARD
BEGIN:DAYLIGHT
TZOFFSETFROM:+0000
TZOFFSETTO:+0100
TZNAME:WEST
DTSTART:20200329T010000
END:DAYLIGHT
BEGIN:STANDARD
TZOFFSETFROM:+0100
TZOFFSETTO:+0000
TZNAME:WET
DTSTART:20201025T010000
END:STANDARD
END:VTIMEZONE
BEGIN:VEVENT
DTSTART;TZID=Europe/Lisbon:20190510T213000
DTEND;TZID=Europe/Lisbon:20190510T233000
DTSTAMP:20260419T174124
CREATED:20190424T151013Z
LAST-MODIFIED:20190510T132717Z
UID:14677-1557523800-1557531000@www.cm-fornosdealgodres.pt
SUMMARY:Menano. Por Vitorino
DESCRIPTION:Menano. Por Vitorino. \n📆 10 de Maio\n🕘 21h30\n📌 Auditório da Associação de Promoção Social\, Cultural e Desportiva de Fornos de Algodres \nLembrando os 50 anos da morte de António Menano\, o Município de Fornos de Algodres promove o espetáculo Menano.Por Vitorino.\nEste espetáculo\, especialmente concebido para o “Correntes de um só rio”\, é baseado na rica e diversificada carreira de António Menano\, que inclui repertório de estilo tão vasto como o Fado de Coimbra\, a Canção Tradicional Portuguesa\, o Fado de Lisboa ou o Tango. Para espelhar toda a importância e qualidade da sua incontornável presença artística\, reunimos artistas\, de grande capacidade vocal e instrumental\, para apresentar as suas composições\, dotando-as da contemporaneidade que Menano tão bem soube antecipar. \nBiografia \nAntónio Menano nasceu em Fornos de Algodres em 5 de maio de 1895\, filho de António da Costa Menano e de Januária Augusta Paulo. Cresceu no seio de uma família de 12 irmãos\, destacando-se desde muito cedo pela sua voz de tenor. Foi irmão de Francisco Menano\, também compositor e cultor do fado de Coimbra.\nMatriculou-se em 1915 no curso de Medicina da Universidade de Coimbra\, tendo despontado aí a sua paixão pelo fado. Em março desse mesmo ano\, sobressai com a interpretação de um fado num Sarau em Aveiro\, organizado pela Associação Académica de Coimbra\, e que contou com a participação da Tuna e do Orfeon. Menano viria a ser conhecido em todo o país\, através dos numerosos discos que gravou.\nApós a conclusão do curso\, António Menano fixou-se na sua terra natal\, em Fornos de Algodres\, exercendo a profissão de médico numa clínica\, sem\, no entanto\, se desligar do meio artístico e académico. Em 1933\, abandonou a carreira artística e partiu voluntariamente para Inhaminga\, em Moçambique\, para exercer medicina\, regressando definitivamente a Portugal em 1961.\nViria a falecer a 11 de setembro de 1969\, na sua residência na rua José Falcão\, em Lisboa
URL:https://www.cm-fornosdealgodres.pt/eventos/menano-por-vitorino/
LOCATION:Auditório da Associação de Promoção Social\, Cultural e Desportiva de Fornos de Algodres\, Portugal
CATEGORIES:Cultura,Música
ATTACH;FMTTYPE=image/png:https://www.cm-fornosdealgodres.pt/wp-content/uploads/2019/04/Vitorino.png
END:VEVENT
BEGIN:VEVENT
DTSTART;TZID=Europe/Lisbon:20190517T173000
DTEND;TZID=Europe/Lisbon:20190519T170000
DTSTAMP:20260419T174124
CREATED:20190509T153824Z
LAST-MODIFIED:20190509T153824Z
UID:14747-1558114200-1558285200@www.cm-fornosdealgodres.pt
SUMMARY:XIV Jornadas de Etnobotânica
DESCRIPTION:
URL:https://www.cm-fornosdealgodres.pt/eventos/xiv-jornadas-de-etnobotanica/
LOCATION:Fornos de Algodres
CATEGORIES:ambiente,Cultura,Desporto e Lazer,Exposições,Natureza,Palestra
ATTACH;FMTTYPE=image/png:https://www.cm-fornosdealgodres.pt/wp-content/uploads/2019/05/cartaz-2019-Copy.png
END:VEVENT
END:VCALENDAR