BEGIN:VCALENDAR
VERSION:2.0
PRODID:-//Município de Fornos de Algodres - ECPv6.15.20//NONSGML v1.0//EN
CALSCALE:GREGORIAN
METHOD:PUBLISH
X-ORIGINAL-URL:https://www.cm-fornosdealgodres.pt
X-WR-CALDESC:Eventos para Município de Fornos de Algodres
REFRESH-INTERVAL;VALUE=DURATION:PT1H
X-Robots-Tag:noindex
X-PUBLISHED-TTL:PT1H
BEGIN:VTIMEZONE
TZID:Europe/Lisbon
BEGIN:DAYLIGHT
TZOFFSETFROM:+0000
TZOFFSETTO:+0100
TZNAME:WEST
DTSTART:20240331T010000
END:DAYLIGHT
BEGIN:STANDARD
TZOFFSETFROM:+0100
TZOFFSETTO:+0000
TZNAME:WET
DTSTART:20241027T010000
END:STANDARD
BEGIN:DAYLIGHT
TZOFFSETFROM:+0000
TZOFFSETTO:+0100
TZNAME:WEST
DTSTART:20250330T010000
END:DAYLIGHT
BEGIN:STANDARD
TZOFFSETFROM:+0100
TZOFFSETTO:+0000
TZNAME:WET
DTSTART:20251026T010000
END:STANDARD
BEGIN:DAYLIGHT
TZOFFSETFROM:+0000
TZOFFSETTO:+0100
TZNAME:WEST
DTSTART:20260329T010000
END:DAYLIGHT
BEGIN:STANDARD
TZOFFSETFROM:+0100
TZOFFSETTO:+0000
TZNAME:WET
DTSTART:20261025T010000
END:STANDARD
END:VTIMEZONE
BEGIN:VEVENT
DTSTART;TZID=Europe/Lisbon:20250822T213000
DTEND;TZID=Europe/Lisbon:20250826T023000
DTSTAMP:20260419T234822
CREATED:20250121T160739Z
LAST-MODIFIED:20250811T093527Z
UID:35889-1755898200-1756175400@www.cm-fornosdealgodres.pt
SUMMARY:Festas em Honra a Nossa Senhora da Graça 2025
DESCRIPTION:
URL:https://www.cm-fornosdealgodres.pt/eventos/festas-em-honra-a-nossa-senhora-da-graca-2025/
LOCATION:Mercado Municipal de Fornos de Algodres\, Largo do Mercado Municipal\, Fornos de Algodres\, Fornos de Algodres\, 6370\, Portugal
CATEGORIES:Cultura,Música
ATTACH;FMTTYPE=image/jpeg:https://www.cm-fornosdealgodres.pt/wp-content/uploads/2025/01/Festas-em-honra-a-Nossa-Senhora-da-Graca-2025-banner.jpg
ORGANIZER;CN="Munic%C3%ADpio de Fornos de Algodres":MAILTO:geral@cm-fornosdealgodres.pt
END:VEVENT
END:VCALENDAR