BEGIN:VCALENDAR
VERSION:2.0
PRODID:-//Município de Fornos de Algodres - ECPv6.15.20//NONSGML v1.0//EN
CALSCALE:GREGORIAN
METHOD:PUBLISH
X-ORIGINAL-URL:https://www.cm-fornosdealgodres.pt
X-WR-CALDESC:Eventos para Município de Fornos de Algodres
REFRESH-INTERVAL;VALUE=DURATION:PT1H
X-Robots-Tag:noindex
X-PUBLISHED-TTL:PT1H
BEGIN:VTIMEZONE
TZID:UTC
BEGIN:STANDARD
TZOFFSETFROM:+0000
TZOFFSETTO:+0000
TZNAME:UTC
DTSTART:20170101T000000
END:STANDARD
END:VTIMEZONE
BEGIN:VEVENT
DTSTART;TZID=UTC:20180615T093000
DTEND;TZID=UTC:20180615T160000
DTSTAMP:20260424T131043
CREATED:20180612T133919Z
LAST-MODIFIED:20180612T133919Z
UID:11521-1529055000-1529078400@www.cm-fornosdealgodres.pt
SUMMARY:III  Encontro Intermunicipal de Desporto Sénior
DESCRIPTION:Fornos de Algodres acolhe a 15 de junho\, o IIIº Encontro Intermunicipal de Desporto Sénior
URL:https://www.cm-fornosdealgodres.pt/eventos/iii-encontro-intermunicipal-de-desporto-senior/
LOCATION:Fornos de Algodres
CATEGORIES:Desporto e Lazer
ATTACH;FMTTYPE=image/png:https://www.cm-fornosdealgodres.pt/wp-content/uploads/2018/06/Intermunicipal-2.png
ORGANIZER;CN="Munic%C3%ADpio de Fornos de Algodres":MAILTO:geral@cm-fornosdealgodres.pt
END:VEVENT
END:VCALENDAR