BEGIN:VCALENDAR
VERSION:2.0
PRODID:-//Município de Fornos de Algodres - ECPv6.15.20//NONSGML v1.0//EN
CALSCALE:GREGORIAN
METHOD:PUBLISH
X-ORIGINAL-URL:https://www.cm-fornosdealgodres.pt
X-WR-CALDESC:Eventos para Município de Fornos de Algodres
REFRESH-INTERVAL;VALUE=DURATION:PT1H
X-Robots-Tag:noindex
X-PUBLISHED-TTL:PT1H
BEGIN:VTIMEZONE
TZID:UTC
BEGIN:STANDARD
TZOFFSETFROM:+0000
TZOFFSETTO:+0000
TZNAME:UTC
DTSTART:20170101T000000
END:STANDARD
END:VTIMEZONE
BEGIN:VEVENT
DTSTART;TZID=UTC:20180623T090000
DTEND;TZID=UTC:20180624T200000
DTSTAMP:20260424T114335
CREATED:20180612T134249Z
LAST-MODIFIED:20180612T134249Z
UID:11525-1529744400-1529870400@www.cm-fornosdealgodres.pt
SUMMARY:Fornos de Algodres Youth Cup Daral Seguros 2018
DESCRIPTION:Nos dias 23 e 24 de Junho\, Fornos de Algodres vai ser palco da oitava edição do Fornos de Algodres Youth Cup Daral Seguros. \nO evento irá contar com a participação de cerca de 650 crianças dos 6 aos 13 anos\, de 46 equipas oriundas do nosso país e de uma da província de Salamanca\, sendo apadrinhado por José Bosingwa\, Daniel Candeias\, Rui Miguel e Luisinho\, bem como do ex-árbitro Duarte Gomes e do técnico Manuel Cajuda. \nEstima-se que durante este fim de semana cerca de 2500 pessoas\, dos mais variados pontos do país\, desde Bragança a Lisboa\, visitem Fornos de Algodres. \nS.L. Benfica\, Sporting C.P\, F.C. Porto\, SC Braga\, AA Coimbra\, Ginásio Clube Figueirense\, Varzim SC\, SC Fiães\, Costifoot\, Escola Futebol Crescer\, Os Pestinhas\, ADFA\, Lusitano FC\, Viseu 2001\, C.P. Vila Nova de Paiva\, CF “Os Repenses”\, SC Alba\, Anadia Fc\, UD Oliveirense\, AD Pedro Roma\, NDS\, SC Celoricense\, ED Gouveia\, C.O.J.A\, FC Seia\, FC Pedras Rubras\, Dínamo da Estação e Atlético de Salamanca constituem os quadros competitivos e recreativos dos Petizes (U7) até aos Infantis (U13). \nUm evento único na região\, que tem como grande propósito promover o desporto e a atividade física e desportiva como agentes próximos da promoção da saúde e do próprio crescimento saudável\, ajudando ao desenvolvimento de práticas e estilos de vida mais saudáveis.
URL:https://www.cm-fornosdealgodres.pt/eventos/fornos-de-algodres-youth-cup-daral-seguros-2018/
CATEGORIES:Desporto e Lazer
ATTACH;FMTTYPE=image/png:https://www.cm-fornosdealgodres.pt/wp-content/uploads/2018/06/Cartaz-Fornos-Cup.png
ORGANIZER;CN="Munic%C3%ADpio de Fornos de Algodres":MAILTO:geral@cm-fornosdealgodres.pt
END:VEVENT
END:VCALENDAR