BEGIN:VCALENDAR
VERSION:2.0
PRODID:-//Município de Fornos de Algodres - ECPv6.15.20//NONSGML v1.0//EN
CALSCALE:GREGORIAN
METHOD:PUBLISH
X-ORIGINAL-URL:https://www.cm-fornosdealgodres.pt
X-WR-CALDESC:Eventos para Município de Fornos de Algodres
REFRESH-INTERVAL;VALUE=DURATION:PT1H
X-Robots-Tag:noindex
X-PUBLISHED-TTL:PT1H
BEGIN:VTIMEZONE
TZID:Europe/Lisbon
BEGIN:DAYLIGHT
TZOFFSETFROM:+0000
TZOFFSETTO:+0100
TZNAME:WEST
DTSTART:20180325T010000
END:DAYLIGHT
BEGIN:STANDARD
TZOFFSETFROM:+0100
TZOFFSETTO:+0000
TZNAME:WET
DTSTART:20181028T010000
END:STANDARD
BEGIN:DAYLIGHT
TZOFFSETFROM:+0000
TZOFFSETTO:+0100
TZNAME:WEST
DTSTART:20190331T010000
END:DAYLIGHT
BEGIN:STANDARD
TZOFFSETFROM:+0100
TZOFFSETTO:+0000
TZNAME:WET
DTSTART:20191027T010000
END:STANDARD
BEGIN:DAYLIGHT
TZOFFSETFROM:+0000
TZOFFSETTO:+0100
TZNAME:WEST
DTSTART:20200329T010000
END:DAYLIGHT
BEGIN:STANDARD
TZOFFSETFROM:+0100
TZOFFSETTO:+0000
TZNAME:WET
DTSTART:20201025T010000
END:STANDARD
END:VTIMEZONE
BEGIN:VEVENT
DTSTART;TZID=Europe/Lisbon:20190413T090000
DTEND;TZID=Europe/Lisbon:20190413T170000
DTSTAMP:20260423T203851
CREATED:20190123T095517Z
LAST-MODIFIED:20190123T095517Z
UID:13790-1555146000-1555174800@www.cm-fornosdealgodres.pt
SUMMARY:Trail Requeijão Terras D'Algodres
DESCRIPTION:O “Trail Requeijão Terras d’ Algodres é uma Organização do Município de Fornos de Algodres que tem como propósito percorrer trilhos e caminhos no concelho de Fornos de Algodres. \nTem como grandes princípios orientadores a promoção da atividade física e o turismo ativo no concelho\, dando a conhecer o património histórico\, cultural e ambiental da nossa região. \nAo abraça-lo a Câmara Municipal pretende criar condições necessárias para que todos os inscritos\, passem um dia de grande convívio em contacto permanente com a natureza\, dentro de um espirito de grande fair-play e desportivismo. \nFazer deste evento desportivo um projeto ambicioso\, inovador e integrador que visa\, para além dos objetivos específicos acima descritos\, afirmar a marca Fornos de Algodres\, como um destino de qualidade único do ponto de vista desportivo\, turístico\, humanístico e cultural.
URL:https://www.cm-fornosdealgodres.pt/eventos/trail-requeijao-terras-dalgodres-2/
LOCATION:Fornos de Algodres
CATEGORIES:Desporto e Lazer
ATTACH;FMTTYPE=image/jpeg:https://www.cm-fornosdealgodres.pt/wp-content/uploads/2019/01/44319796_2128856823840662_8933746324612841472_o.jpg
END:VEVENT
END:VCALENDAR