BEGIN:VCALENDAR
VERSION:2.0
PRODID:-//Município de Fornos de Algodres - ECPv6.15.20//NONSGML v1.0//EN
CALSCALE:GREGORIAN
METHOD:PUBLISH
X-WR-CALNAME:Município de Fornos de Algodres
X-ORIGINAL-URL:https://www.cm-fornosdealgodres.pt
X-WR-CALDESC:Eventos para Município de Fornos de Algodres
REFRESH-INTERVAL;VALUE=DURATION:PT1H
X-Robots-Tag:noindex
X-PUBLISHED-TTL:PT1H
BEGIN:VTIMEZONE
TZID:Europe/Lisbon
BEGIN:DAYLIGHT
TZOFFSETFROM:+0000
TZOFFSETTO:+0100
TZNAME:WEST
DTSTART:20180325T010000
END:DAYLIGHT
BEGIN:STANDARD
TZOFFSETFROM:+0100
TZOFFSETTO:+0000
TZNAME:WET
DTSTART:20181028T010000
END:STANDARD
BEGIN:DAYLIGHT
TZOFFSETFROM:+0000
TZOFFSETTO:+0100
TZNAME:WEST
DTSTART:20190331T010000
END:DAYLIGHT
BEGIN:STANDARD
TZOFFSETFROM:+0100
TZOFFSETTO:+0000
TZNAME:WET
DTSTART:20191027T010000
END:STANDARD
BEGIN:DAYLIGHT
TZOFFSETFROM:+0000
TZOFFSETTO:+0100
TZNAME:WEST
DTSTART:20200329T010000
END:DAYLIGHT
BEGIN:STANDARD
TZOFFSETFROM:+0100
TZOFFSETTO:+0000
TZNAME:WET
DTSTART:20201025T010000
END:STANDARD
END:VTIMEZONE
BEGIN:VEVENT
DTSTART;TZID=Europe/Lisbon:20190811T063000
DTEND;TZID=Europe/Lisbon:20190811T150000
DTSTAMP:20260423T025515
CREATED:20190712T091311Z
LAST-MODIFIED:20190712T164623Z
UID:15375-1565505000-1565535600@www.cm-fornosdealgodres.pt
SUMMARY:Trilhos dos Lobos
DESCRIPTION:O “Trilhos dos Lobos” é uma Prova de Trail Running\, realizada em trilhos\, piso acidentado\, estradões e obstáculos\, por terrenos circundantes à União de Freguesias de Cortiçô – Vila Chã e Junta de\nFreguesia de Figueiró da Granja. \nEste evento conta com a realização de um Trail\, um Trail Curto e de uma caminhada. \nO “Trilhos dos Lobos” é um evento organizado pela Comissão de Festas de Vila Chã e pelo CRVC – Clube Recreativo de Vila Chã. Este evento pretende dinamizar a prática desportiva na região nomeadamente o atletismo e a prática específica do Trail Running\, trazendo ao concelho de Fornos de Algodres\, atletas de vários locais para que se possa partilhar a experiência desta modalidade. \nA organização conta com o apoio da Câmara Municipal de Fornos de Algodres\, da União de Freguesias de Cortiçô – Vila Chã\, Junta de Freguesia de Figueiró da Granja e pelo ETT – Esgalhada Trail Team\, bem como de outras entidades e empresas da zona. \nPrograma / Horário\n06:30/07:30 – Abertura do Secretariado junto à sede do CRVC – Clube Recreativo de Vila Chã; \n07:30 – Abertura do Controlo 0\, (início da entrada dos atletas para a zona da Partida) \n07:45 – Briefing; \n08:00 – Inicio do de Trail; \n08:15 – Inicio do Trail Curto; \n09.00 – Início da caminhada; \n12:00 – Encerramento do Trail Longo (poderá ser antecipado caso todos os atletas cheguem à meta antes do tempo limite); \n12:00 – Encerramento do Trail Curto (poderá ser antecipado caso todos os atletas cheguem à meta antes do tempo limite); \n12:00 – Entrega de prémios/Encerramento (poderá ser antecipada caso se verifiquem condições para a entrega dos troféus e os respetivos atletas estejam presentes para tal); \n13:00 – Almoço \n  \nDistância/altimetria.\nTrail: Distancia:18\,5 km\nAltimertia: Aprox. 750 D±\nTrail Curto: Distância 10km\nAltimetria: Aprox. 415D± \n  \nhttps://www.acorrer.pt/eventos/info/2280?fbclid=IwAR1FR093ghRaXVF4SQCd8iV4fEd33LExNhZLVeSKwdsTKfZ1_n6FP1Zrgog
URL:https://www.cm-fornosdealgodres.pt/eventos/trilhos-dos-lobos/
LOCATION:Vila Chã\, Fornos de Algodres\, Portugal
CATEGORIES:Desporto e Lazer,Natureza
ATTACH;FMTTYPE=image/jpeg:https://www.cm-fornosdealgodres.pt/wp-content/uploads/2019/07/460.jpg
END:VEVENT
END:VCALENDAR