BEGIN:VCALENDAR
VERSION:2.0
PRODID:-//Município de Fornos de Algodres - ECPv6.15.20//NONSGML v1.0//EN
CALSCALE:GREGORIAN
METHOD:PUBLISH
X-WR-CALNAME:Município de Fornos de Algodres
X-ORIGINAL-URL:https://www.cm-fornosdealgodres.pt
X-WR-CALDESC:Eventos para Município de Fornos de Algodres
REFRESH-INTERVAL;VALUE=DURATION:PT1H
X-Robots-Tag:noindex
X-PUBLISHED-TTL:PT1H
BEGIN:VTIMEZONE
TZID:Europe/Lisbon
BEGIN:DAYLIGHT
TZOFFSETFROM:+0000
TZOFFSETTO:+0100
TZNAME:WEST
DTSTART:20240331T010000
END:DAYLIGHT
BEGIN:STANDARD
TZOFFSETFROM:+0100
TZOFFSETTO:+0000
TZNAME:WET
DTSTART:20241027T010000
END:STANDARD
BEGIN:DAYLIGHT
TZOFFSETFROM:+0000
TZOFFSETTO:+0100
TZNAME:WEST
DTSTART:20250330T010000
END:DAYLIGHT
BEGIN:STANDARD
TZOFFSETFROM:+0100
TZOFFSETTO:+0000
TZNAME:WET
DTSTART:20251026T010000
END:STANDARD
BEGIN:DAYLIGHT
TZOFFSETFROM:+0000
TZOFFSETTO:+0100
TZNAME:WEST
DTSTART:20260329T010000
END:DAYLIGHT
BEGIN:STANDARD
TZOFFSETFROM:+0100
TZOFFSETTO:+0000
TZNAME:WET
DTSTART:20261025T010000
END:STANDARD
END:VTIMEZONE
BEGIN:VEVENT
DTSTART;TZID=Europe/Lisbon:20250921T093000
DTEND;TZID=Europe/Lisbon:20250921T123000
DTSTAMP:20260425T212340
CREATED:20250919T135841Z
LAST-MODIFIED:20250919T141224Z
UID:39434-1758447000-1758457800@www.cm-fornosdealgodres.pt
SUMMARY:II Trilhos das Terras do Vasco
DESCRIPTION:
URL:https://www.cm-fornosdealgodres.pt/eventos/ii-trilhos-das-terras-do-vasco/
LOCATION:Casal Vasco
CATEGORIES:Desporto e Lazer,Natureza
ATTACH;FMTTYPE=image/jpeg:https://www.cm-fornosdealgodres.pt/wp-content/uploads/2025/09/banner-II-Trilhos-Terras-do-Vasco.jpg
END:VEVENT
END:VCALENDAR