BEGIN:VCALENDAR
VERSION:2.0
PRODID:-//Município de Fornos de Algodres - ECPv6.15.20//NONSGML v1.0//EN
CALSCALE:GREGORIAN
METHOD:PUBLISH
X-WR-CALNAME:Município de Fornos de Algodres
X-ORIGINAL-URL:https://www.cm-fornosdealgodres.pt
X-WR-CALDESC:Eventos para Município de Fornos de Algodres
REFRESH-INTERVAL;VALUE=DURATION:PT1H
X-Robots-Tag:noindex
X-PUBLISHED-TTL:PT1H
BEGIN:VTIMEZONE
TZID:UTC
BEGIN:STANDARD
TZOFFSETFROM:+0000
TZOFFSETTO:+0000
TZNAME:UTC
DTSTART:20150101T000000
END:STANDARD
END:VTIMEZONE
BEGIN:VEVENT
DTSTART;TZID=UTC:20160407T093000
DTEND;TZID=UTC:20160407T160000
DTSTAMP:20260422T080825
CREATED:20160331T144431Z
LAST-MODIFIED:20160331T144522Z
UID:7202-1460021400-1460044800@www.cm-fornosdealgodres.pt
SUMMARY:Jornadas Seniores Concelhias
DESCRIPTION:O Município de Fornos de Algodres em parceria com outras entidades da comunidade local promove as Jornadas Seniores Concelhias\, no dia 7 de Abril\, assinalando desse modo o Dia Mundial da Atividade Física e o Dia Mundial da Saúde. \nPretende-se com esta atividade debater e repensar a “qualidade de vida na terceira idade” introduzindo temas associados à promoção da saúde e segurança dos nossos idosos. \nParticipe! \n 
URL:https://www.cm-fornosdealgodres.pt/eventos/jornadas-seniores-concelhias/
CATEGORIES:Seminários e Debates
ATTACH;FMTTYPE=image/jpeg:https://www.cm-fornosdealgodres.pt/wp-content/uploads/2016/03/jornadas_saude.jpg
END:VEVENT
END:VCALENDAR