BEGIN:VCALENDAR
VERSION:2.0
PRODID:-//Município de Fornos de Algodres - ECPv6.15.20//NONSGML v1.0//EN
CALSCALE:GREGORIAN
METHOD:PUBLISH
X-ORIGINAL-URL:https://www.cm-fornosdealgodres.pt
X-WR-CALDESC:Eventos para Município de Fornos de Algodres
REFRESH-INTERVAL;VALUE=DURATION:PT1H
X-Robots-Tag:noindex
X-PUBLISHED-TTL:PT1H
BEGIN:VTIMEZONE
TZID:Europe/Lisbon
BEGIN:DAYLIGHT
TZOFFSETFROM:+0000
TZOFFSETTO:+0100
TZNAME:WEST
DTSTART:20250330T010000
END:DAYLIGHT
BEGIN:STANDARD
TZOFFSETFROM:+0100
TZOFFSETTO:+0000
TZNAME:WET
DTSTART:20251026T010000
END:STANDARD
BEGIN:DAYLIGHT
TZOFFSETFROM:+0000
TZOFFSETTO:+0100
TZNAME:WEST
DTSTART:20260329T010000
END:DAYLIGHT
BEGIN:STANDARD
TZOFFSETFROM:+0100
TZOFFSETTO:+0000
TZNAME:WET
DTSTART:20261025T010000
END:STANDARD
BEGIN:DAYLIGHT
TZOFFSETFROM:+0000
TZOFFSETTO:+0100
TZNAME:WEST
DTSTART:20270328T010000
END:DAYLIGHT
BEGIN:STANDARD
TZOFFSETFROM:+0100
TZOFFSETTO:+0000
TZNAME:WET
DTSTART:20271031T010000
END:STANDARD
END:VTIMEZONE
BEGIN:VEVENT
DTSTART;TZID=Europe/Lisbon:20260320T180000
DTEND;TZID=Europe/Lisbon:20260322T183000
DTSTAMP:20260423T215327
CREATED:20260219T120519Z
LAST-MODIFIED:20260317T104635Z
UID:41169-1774029600-1774204200@www.cm-fornosdealgodres.pt
SUMMARY:47ªEdição da Feira do Queijo Serra da Estrela em Fornos de Algodres
DESCRIPTION:De 20 a 22 de março\, Fornos de Algodres volta a celebrar um dos maiores tesouros da nossa região: o Queijo Serra da Estrela. \nDurante três dias\, o Mercado Municipal de Fornos de Algodres será palco de uma grande festa dedicada às tradições\, à gastronomia e à cultura serrana\, reunindo produtores\, visitantes e amantes deste produto único. \nO programa inclui: \n\nMomentos musicais e concertos\nConcurso de Ovinos “Serra da Estrela”\nProvas Populares de Queijo\nShowcookings\nFestival de folclore e animação cultural\nAtividades e oficinas para crianças\nVisitas guiadas a queijarias artesanais\n\nEntre os destaques musicais contam-se Kiss Kiss Bang Bang\, Augusto Canário & Amigos\, Volta e Meia e Marotos da Concertina\, garantindo muita animação ao longo do fim de semana. \nTradição\, sabores autênticos e muita animação esperam por si! \nDe 20 a 22 de março de 2026 \nO melhor Queijo do mundo espera por si\, em Fornos de Algodres.
URL:https://www.cm-fornosdealgodres.pt/eventos/47aedicao-da-feira-do-queijo-serra-da-estrela-em-fornos-de-algodres/
LOCATION:Mercado Municipal de Fornos de Algodres\, Largo do Mercado Municipal\, Fornos de Algodres\, Fornos de Algodres\, 6370\, Portugal
CATEGORIES:Feiras e Mostras
ATTACH;FMTTYPE=image/jpeg:https://www.cm-fornosdealgodres.pt/wp-content/uploads/2026/02/Feira-do-Queijo-Serra-da-Estrela-2026-em-Fornos-de-Algodres-scaled.jpg
ORGANIZER;CN="Munic%C3%ADpio de Fornos de Algodres":MAILTO:geral@cm-fornosdealgodres.pt
END:VEVENT
END:VCALENDAR